BEGIN:VCALENDAR
VERSION:2.0
PRODID:-//FDP Bad Tölz - Wolfratshausen - ECPv6.15.11//NONSGML v1.0//EN
CALSCALE:GREGORIAN
METHOD:PUBLISH
X-ORIGINAL-URL:https://fdp-toel-wor.de
X-WR-CALDESC:Veranstaltungen für FDP Bad Tölz - Wolfratshausen
REFRESH-INTERVAL;VALUE=DURATION:PT1H
X-Robots-Tag:noindex
X-PUBLISHED-TTL:PT1H
BEGIN:VTIMEZONE
TZID:Europe/Berlin
BEGIN:DAYLIGHT
TZOFFSETFROM:+0100
TZOFFSETTO:+0200
TZNAME:CEST
DTSTART:20230326T010000
END:DAYLIGHT
BEGIN:STANDARD
TZOFFSETFROM:+0200
TZOFFSETTO:+0100
TZNAME:CET
DTSTART:20231029T010000
END:STANDARD
BEGIN:DAYLIGHT
TZOFFSETFROM:+0100
TZOFFSETTO:+0200
TZNAME:CEST
DTSTART:20240331T010000
END:DAYLIGHT
BEGIN:STANDARD
TZOFFSETFROM:+0200
TZOFFSETTO:+0100
TZNAME:CET
DTSTART:20241027T010000
END:STANDARD
BEGIN:DAYLIGHT
TZOFFSETFROM:+0100
TZOFFSETTO:+0200
TZNAME:CEST
DTSTART:20250330T010000
END:DAYLIGHT
BEGIN:STANDARD
TZOFFSETFROM:+0200
TZOFFSETTO:+0100
TZNAME:CET
DTSTART:20251026T010000
END:STANDARD
BEGIN:DAYLIGHT
TZOFFSETFROM:+0100
TZOFFSETTO:+0200
TZNAME:CEST
DTSTART:20260329T010000
END:DAYLIGHT
BEGIN:STANDARD
TZOFFSETFROM:+0200
TZOFFSETTO:+0100
TZNAME:CET
DTSTART:20261025T010000
END:STANDARD
BEGIN:DAYLIGHT
TZOFFSETFROM:+0100
TZOFFSETTO:+0200
TZNAME:CEST
DTSTART:20270328T010000
END:DAYLIGHT
BEGIN:STANDARD
TZOFFSETFROM:+0200
TZOFFSETTO:+0100
TZNAME:CET
DTSTART:20271031T010000
END:STANDARD
END:VTIMEZONE
BEGIN:VEVENT
DTSTART;TZID=Europe/Berlin:20260307T100000
DTEND;TZID=Europe/Berlin:20260307T130000
DTSTAMP:20260422T124829
CREATED:20260218T204448Z
LAST-MODIFIED:20260218T204448Z
UID:4770-1772877600-1772888400@fdp-toel-wor.de
SUMMARY:Infostand am Marienplatz Wolfratshausen
DESCRIPTION:
URL:https://fdp-toel-wor.de/event/infostand-am-marienplatz-wolfratshausen-3/
LOCATION:Wolfratshausen Marienplatz\, Untermarkt 1\, Wolfratshausen\, 82515\, Deutschland
END:VEVENT
BEGIN:VEVENT
DTSTART;TZID=Europe/Berlin:20260303T190000
DTEND;TZID=Europe/Berlin:20260303T220000
DTSTAMP:20260422T124829
CREATED:20260218T204332Z
LAST-MODIFIED:20260218T204332Z
UID:4767-1772564400-1772575200@fdp-toel-wor.de
SUMMARY:"Kommen wir ins Gespräch" - Wahlkampfabschluss im Gasthof Flößerei\, Wolfratshausen
DESCRIPTION:
URL:https://fdp-toel-wor.de/event/kommen-wir-ins-gespraech-wahlkampfabschluss-im-gasthof-floesserei-wolfratshausen/
LOCATION:Wirtshaus Flößerei\, Sebastiani Steg 1\, 82515 Wolfratshausen\, Sebastiani Steg 1\, Wolfratshausen\, 82515\, Deutschland
END:VEVENT
BEGIN:VEVENT
DTSTART;TZID=Europe/Berlin:20260228T100000
DTEND;TZID=Europe/Berlin:20260228T130000
DTSTAMP:20260422T124829
CREATED:20260218T204229Z
LAST-MODIFIED:20260218T204229Z
UID:4765-1772272800-1772283600@fdp-toel-wor.de
SUMMARY:Infostand am Marienplatz Wolfratshausen
DESCRIPTION:
URL:https://fdp-toel-wor.de/event/infostand-am-marienplatz-wolfratshausen-2/
LOCATION:Wolfratshausen Marienplatz\, Untermarkt 1\, Wolfratshausen\, 82515\, Deutschland
END:VEVENT
BEGIN:VEVENT
DTSTART;TZID=Europe/Berlin:20260224T070000
DTEND;TZID=Europe/Berlin:20260224T080000
DTSTAMP:20260422T124829
CREATED:20260218T204133Z
LAST-MODIFIED:20260218T204133Z
UID:4763-1771916400-1771920000@fdp-toel-wor.de
SUMMARY:Breznverteilaktion am Bahnhof Wolfratshausen
DESCRIPTION:
URL:https://fdp-toel-wor.de/event/breznverteilaktion-am-bahnhof-wolfratshausen/
LOCATION:Wolfratshausen S-Bahnhof\, Bahnhofstraße 41\, Wolfratshausen\, 82515\, Deutschland
END:VEVENT
BEGIN:VEVENT
DTSTART;TZID=Europe/Berlin:20260221T100000
DTEND;TZID=Europe/Berlin:20260221T130000
DTSTAMP:20260422T124829
CREATED:20260218T204029Z
LAST-MODIFIED:20260218T204029Z
UID:4761-1771668000-1771678800@fdp-toel-wor.de
SUMMARY:Infostand am Marienplatz Wolfratshausen
DESCRIPTION:
URL:https://fdp-toel-wor.de/event/infostand-am-marienplatz-wolfratshausen/
LOCATION:Wolfratshausen Marienplatz\, Untermarkt 1\, Wolfratshausen\, 82515\, Deutschland
END:VEVENT
BEGIN:VEVENT
DTSTART;TZID=Europe/Berlin:20260219T190000
DTEND;TZID=Europe/Berlin:20260219T220000
DTSTAMP:20260422T124829
CREATED:20260218T203912Z
LAST-MODIFIED:20260218T203912Z
UID:4758-1771527600-1771538400@fdp-toel-wor.de
SUMMARY:Kommen wir ins Gespräch" - Stadtgespräch in der Burgschenke Wolfratshausen
DESCRIPTION:
URL:https://fdp-toel-wor.de/event/kommen-wir-ins-gespraech-stadtgespraech-in-der-burgschenke-wolfratshausen/
LOCATION:Wolfratshausen – Burgschenke\, Humplgassl 3\, Wolfratshausen\, 82515
END:VEVENT
BEGIN:VEVENT
DTSTART;TZID=Europe/Berlin:20251114T193000
DTEND;TZID=Europe/Berlin:20251114T223000
DTSTAMP:20260422T124829
CREATED:20251016T160107Z
LAST-MODIFIED:20251016T160107Z
UID:4576-1763148600-1763159400@fdp-toel-wor.de
SUMMARY:Die Aufstellung zur Kreistagsliste
DESCRIPTION:
URL:https://fdp-toel-wor.de/event/die-aufstellung-zur-kreistagsliste/
LOCATION:Reindlschmiede Landgasthof-Hotel\, Reindlschmiede 8\, Bad Heilbrunn\, Bayern\, 83670\, Deutschland
END:VEVENT
BEGIN:VEVENT
DTSTART;TZID=Europe/Berlin:20251030T193000
DTEND;TZID=Europe/Berlin:20251030T223000
DTSTAMP:20260422T124829
CREATED:20251016T160532Z
LAST-MODIFIED:20251016T160532Z
UID:4582-1761852600-1761863400@fdp-toel-wor.de
SUMMARY:Aufstellung Stadtratsliste Geretsried
DESCRIPTION:
URL:https://fdp-toel-wor.de/event/aufstellung-stadtratsliste-geretsried/
END:VEVENT
BEGIN:VEVENT
DTSTART;TZID=Europe/Berlin:20251029T193000
DTEND;TZID=Europe/Berlin:20251029T223000
DTSTAMP:20260422T124829
CREATED:20251016T160358Z
LAST-MODIFIED:20251016T160358Z
UID:4580-1761766200-1761777000@fdp-toel-wor.de
SUMMARY:Aufstellung Stadtratsliste Wolfratshausen
DESCRIPTION:
URL:https://fdp-toel-wor.de/event/aufstellung-stadtratsliste-wolfratshausen/
LOCATION:Wolfratshausen Landhaus Cafe\, Sauerlacher Straße 10\, Wolfratshausen\, 82515\, Deutschland
END:VEVENT
BEGIN:VEVENT
DTSTART;TZID=Europe/Berlin:20251029T193000
DTEND;TZID=Europe/Berlin:20251029T220000
DTSTAMP:20260422T124829
CREATED:20250924T184419Z
LAST-MODIFIED:20250924T184419Z
UID:4566-1761766200-1761775200@fdp-toel-wor.de
SUMMARY:Aufstellung Liste - Kommunalwahl 2026 - WOR
DESCRIPTION:
URL:https://fdp-toel-wor.de/event/aufstellung-liste-kommunalwahl-2026-wor/
LOCATION:Wolfratshausen Landhaus Cafe\, Sauerlacher Straße 10\, Wolfratshausen\, 82515\, Deutschland
END:VEVENT
BEGIN:VEVENT
DTSTART;TZID=Europe/Berlin:20251017T193000
DTEND;TZID=Europe/Berlin:20251017T220000
DTSTAMP:20260422T124829
CREATED:20250924T185416Z
LAST-MODIFIED:20250924T185416Z
UID:4569-1760729400-1760738400@fdp-toel-wor.de
SUMMARY:Aufstellung Liste - Kommunalwahl 2026 - Lenggries
DESCRIPTION:
URL:https://fdp-toel-wor.de/event/aufstellung-liste-kommunalwahl-2026-lenggries/
LOCATION:Altwirt (Lenggries)\, Marktstr. 13\, Lenggries\, 83661\, Deutschland
END:VEVENT
BEGIN:VEVENT
DTSTART;TZID=Europe/Berlin:20251017T193000
DTEND;TZID=Europe/Berlin:20251017T193000
DTSTAMP:20260422T124829
CREATED:20251016T160235Z
LAST-MODIFIED:20251016T160235Z
UID:4578-1760729400-1760729400@fdp-toel-wor.de
SUMMARY:Aufstellung Gemeinderatsliste Lenggries
DESCRIPTION:
URL:https://fdp-toel-wor.de/event/aufstellung-gemeinderatsliste-lenggries/
LOCATION:Wirtshaus-Hotel „Der Altwirt“\, Marktstraße 13\, Lenggries\, 83661\, Deutschland
END:VEVENT
BEGIN:VEVENT
DTSTART;TZID=Europe/Berlin:20250903T200000
DTEND;TZID=Europe/Berlin:20250903T220000
DTSTAMP:20260422T124829
CREATED:20250718T053406Z
LAST-MODIFIED:20250718T053406Z
UID:4541-1756929600-1756936800@fdp-toel-wor.de
SUMMARY:Vorstandssitzung
DESCRIPTION:
URL:https://fdp-toel-wor.de/event/vorstandssitzung/
LOCATION:Virtuell – GoToMeeting
END:VEVENT
BEGIN:VEVENT
DTSTART;TZID=Europe/Berlin:20250807T200000
DTEND;TZID=Europe/Berlin:20250807T210000
DTSTAMP:20260422T124829
CREATED:20250718T052605Z
LAST-MODIFIED:20250718T052605Z
UID:4539-1754596800-1754600400@fdp-toel-wor.de
SUMMARY:Digitaler-Themenabend - Kinder\, Jugend & Bildung
DESCRIPTION:
URL:https://fdp-toel-wor.de/event/digitaler-themenabend-kinder-jugend-bildung/
LOCATION:Virtuell – GoToMeeting
END:VEVENT
BEGIN:VEVENT
DTSTART;TZID=Europe/Berlin:20250731T200000
DTEND;TZID=Europe/Berlin:20250731T210000
DTSTAMP:20260422T124829
CREATED:20250718T052517Z
LAST-MODIFIED:20250718T052517Z
UID:4537-1753992000-1753995600@fdp-toel-wor.de
SUMMARY:Digitaler-Themenabend - Transparenz & Digitalisierung
DESCRIPTION:
URL:https://fdp-toel-wor.de/event/digitaler-themenabend-transparenz-digitalisierung/
END:VEVENT
BEGIN:VEVENT
DTSTART;TZID=Europe/Berlin:20250730T193000
DTEND;TZID=Europe/Berlin:20250730T223000
DTSTAMP:20260422T124829
CREATED:20250718T050435Z
LAST-MODIFIED:20250718T050955Z
UID:4526-1753903800-1753914600@fdp-toel-wor.de
SUMMARY:Stammtisch
DESCRIPTION:
URL:https://fdp-toel-wor.de/event/stammtisch/
LOCATION:Wirtshaus-Hotel „Der Altwirt“\, Marktstraße 13\, Lenggries\, 83661\, Deutschland
END:VEVENT
BEGIN:VEVENT
DTSTART;TZID=Europe/Berlin:20250729T200000
DTEND;TZID=Europe/Berlin:20250729T210000
DTSTAMP:20260422T124829
CREATED:20250718T052435Z
LAST-MODIFIED:20250718T052435Z
UID:4535-1753819200-1753822800@fdp-toel-wor.de
SUMMARY:Digitaler-Themenabend - Verkehr & Umwelt
DESCRIPTION:
URL:https://fdp-toel-wor.de/event/digitaler-themenabend-verkehr-umwelt/
LOCATION:Virtuell – GoToMeeting
END:VEVENT
BEGIN:VEVENT
DTSTART;TZID=Europe/Berlin:20250724T200000
DTEND;TZID=Europe/Berlin:20250724T210000
DTSTAMP:20260422T124829
CREATED:20250718T052303Z
LAST-MODIFIED:20250718T052303Z
UID:4532-1753387200-1753390800@fdp-toel-wor.de
SUMMARY:Digitaler-Themenabend - Wohnen & Infrastruktur
DESCRIPTION:
URL:https://fdp-toel-wor.de/event/digitaler-themenabend-wohnen-infrastruktur/
LOCATION:Virtuell – GoToMeeting
END:VEVENT
BEGIN:VEVENT
DTSTART;TZID=Europe/Berlin:20250717T200000
DTEND;TZID=Europe/Berlin:20250717T210000
DTSTAMP:20260422T124829
CREATED:20250718T052208Z
LAST-MODIFIED:20250718T052208Z
UID:4530-1752782400-1752786000@fdp-toel-wor.de
SUMMARY:Digitaler-Themenabend - Wirtschaft & Tourismus
DESCRIPTION:
URL:https://fdp-toel-wor.de/event/digitaler-themenabend-wirtschaft-tourismus/
LOCATION:Virtuell – GoToMeeting
END:VEVENT
BEGIN:VEVENT
DTSTART;TZID=Europe/Berlin:20250622T110000
DTEND;TZID=Europe/Berlin:20250622T140000
DTSTAMP:20260422T124829
CREATED:20250718T051606Z
LAST-MODIFIED:20250718T051606Z
UID:4528-1750590000-1750600800@fdp-toel-wor.de
SUMMARY:Sommer-Stammtisch
DESCRIPTION:
URL:https://fdp-toel-wor.de/event/sommer-stammtisch/
LOCATION:Königsdorfer Alm\, Almweg 7\, Königsdorf\, 82549\, Deutschland
END:VEVENT
BEGIN:VEVENT
DTSTART;TZID=Europe/Berlin:20250408T190000
DTEND;TZID=Europe/Berlin:20250408T213000
DTSTAMP:20260422T124829
CREATED:20250318T095752Z
LAST-MODIFIED:20250318T095752Z
UID:4494-1744138800-1744147800@fdp-toel-wor.de
SUMMARY:Stammtisch des FDP Kreisverband
DESCRIPTION:
URL:https://fdp-toel-wor.de/event/kreisstammtisch042025/
LOCATION:Tölzer Binderbräu Gasthaus-Brauerei\, Ludwigstraße 12\, Bad Tölz\, 83646
END:VEVENT
BEGIN:VEVENT
DTSTART;TZID=Europe/Berlin:20250320T193000
DTEND;TZID=Europe/Berlin:20250320T213000
DTSTAMP:20260422T124829
CREATED:20250318T095637Z
LAST-MODIFIED:20250318T095654Z
UID:4491-1742499000-1742506200@fdp-toel-wor.de
SUMMARY:Kreishauptversammlung
DESCRIPTION:Kreishauptversammlung mit Wahl der Delegierten
URL:https://fdp-toel-wor.de/event/kreishauptversammlung-3/
LOCATION:Reindlschmiede Landgasthof-Hotel\, Reindlschmiede 8\, Bad Heilbrunn\, Bayern\, 83670\, Deutschland
END:VEVENT
BEGIN:VEVENT
DTSTART;TZID=Europe/Berlin:20250215T100000
DTEND;TZID=Europe/Berlin:20250215T130000
DTSTAMP:20260422T124829
CREATED:20241220T165617Z
LAST-MODIFIED:20241220T165617Z
UID:4465-1739613600-1739624400@fdp-toel-wor.de
SUMMARY:Infostand Bad Tölz + Wolfratshausen
DESCRIPTION:
URL:https://fdp-toel-wor.de/event/infostand-bad-toelz-wolfratshausen/
CATEGORIES:Infostand
END:VEVENT
BEGIN:VEVENT
DTSTART;TZID=Europe/Berlin:20250208T100000
DTEND;TZID=Europe/Berlin:20250208T130000
DTSTAMP:20260422T124829
CREATED:20241220T165347Z
LAST-MODIFIED:20241220T165347Z
UID:4461-1739008800-1739019600@fdp-toel-wor.de
SUMMARY:Infostand Wolfratshausen
DESCRIPTION:
URL:https://fdp-toel-wor.de/event/infostand-wolfratshausen-2/
CATEGORIES:Infostand
END:VEVENT
BEGIN:VEVENT
DTSTART;TZID=Europe/Berlin:20250201T100000
DTEND;TZID=Europe/Berlin:20250201T130000
DTSTAMP:20260422T124829
CREATED:20241220T165145Z
LAST-MODIFIED:20241220T165210Z
UID:4457-1738404000-1738414800@fdp-toel-wor.de
SUMMARY:Infostand Miesbach
DESCRIPTION:
URL:https://fdp-toel-wor.de/event/infostand-miesbach-2/
CATEGORIES:Infostand
END:VEVENT
BEGIN:VEVENT
DTSTART;TZID=Europe/Berlin:20250125T100000
DTEND;TZID=Europe/Berlin:20250125T130000
DTSTAMP:20260422T124829
CREATED:20241220T165524Z
LAST-MODIFIED:20241220T165524Z
UID:4463-1737799200-1737810000@fdp-toel-wor.de
SUMMARY:Infostand Bad Tölz
DESCRIPTION:
URL:https://fdp-toel-wor.de/event/infostand-bad-toelz/
CATEGORIES:Infostand
END:VEVENT
BEGIN:VEVENT
DTSTART;TZID=Europe/Berlin:20250118T100000
DTEND;TZID=Europe/Berlin:20250118T130000
DTSTAMP:20260422T124829
CREATED:20241220T165301Z
LAST-MODIFIED:20241220T165301Z
UID:4459-1737194400-1737205200@fdp-toel-wor.de
SUMMARY:Infostand Wolfratshausen
DESCRIPTION:
URL:https://fdp-toel-wor.de/event/infostand-wolfratshausen/
CATEGORIES:Infostand
END:VEVENT
BEGIN:VEVENT
DTSTART;TZID=Europe/Berlin:20250111T100000
DTEND;TZID=Europe/Berlin:20250111T130000
DTSTAMP:20260422T124829
CREATED:20241220T165012Z
LAST-MODIFIED:20241220T165204Z
UID:4455-1736589600-1736600400@fdp-toel-wor.de
SUMMARY:Infostand Miesbach
DESCRIPTION:
URL:https://fdp-toel-wor.de/event/infostand-miesbach/
CATEGORIES:Infostand
END:VEVENT
BEGIN:VEVENT
DTSTART;TZID=Europe/Berlin:20240724T200000
DTEND;TZID=Europe/Berlin:20240724T210000
DTSTAMP:20260422T124829
CREATED:20240717T171112Z
LAST-MODIFIED:20240717T171645Z
UID:4432-1721851200-1721854800@fdp-toel-wor.de
SUMMARY:#DigiKom am 24.07 um 20 Uhr
DESCRIPTION:Einwahldaten zum MS Teams Online Event:\n\n\n\nNehmen Sie auf dem Computer\, in der mobilen App  teil \n\n\n\n\nhttps://teams.microsoft.com/l/meetup-join/19%3ameeting_Nzc5NjVlNjgtOGU1YS00MzIyLTlmMjEtYmYwYjBjMmM5OGM0%40thread.v2/0?context=%7b%22Tid%22%3a%2269b5e0c3-36fa-42f1-b1c2-035bd2307d2a%22%2c%22Oid%22%3a%22537a1bec-94b5-402d-a4f0-02519bd4be86%22%7d 
URL:https://fdp-toel-wor.de/event/digikom/
LOCATION:Virtuell – GoToMeeting
CATEGORIES:Kreisverband,Wolfratshausen
END:VEVENT
BEGIN:VEVENT
DTSTART;TZID=Europe/Berlin:20240114T110000
DTEND;TZID=Europe/Berlin:20240114T140000
DTSTAMP:20260422T124829
CREATED:20231217T175712Z
LAST-MODIFIED:20231217T175712Z
UID:4382-1705230000-1705240800@fdp-toel-wor.de
SUMMARY:Neujahrsempfang 2024
DESCRIPTION:
URL:https://fdp-toel-wor.de/event/neujahrsempfang-2024/
LOCATION:Wolfratshausen Landhaus Cafe\, Sauerlacher Straße 10\, Wolfratshausen\, 82515\, Deutschland
CATEGORIES:Neujahrsempfang
END:VEVENT
END:VCALENDAR