BEGIN:VCALENDAR
VERSION:2.0
PRODID:-//FDP Bad Tölz - Wolfratshausen - ECPv6.15.11//NONSGML v1.0//EN
CALSCALE:GREGORIAN
METHOD:PUBLISH
X-WR-CALNAME:FDP Bad Tölz - Wolfratshausen
X-ORIGINAL-URL:https://fdp-toel-wor.de
X-WR-CALDESC:Veranstaltungen für FDP Bad Tölz - Wolfratshausen
REFRESH-INTERVAL;VALUE=DURATION:PT1H
X-Robots-Tag:noindex
X-PUBLISHED-TTL:PT1H
BEGIN:VTIMEZONE
TZID:Europe/Berlin
BEGIN:DAYLIGHT
TZOFFSETFROM:+0100
TZOFFSETTO:+0200
TZNAME:CEST
DTSTART:20220327T010000
END:DAYLIGHT
BEGIN:STANDARD
TZOFFSETFROM:+0200
TZOFFSETTO:+0100
TZNAME:CET
DTSTART:20221030T010000
END:STANDARD
BEGIN:DAYLIGHT
TZOFFSETFROM:+0100
TZOFFSETTO:+0200
TZNAME:CEST
DTSTART:20230326T010000
END:DAYLIGHT
BEGIN:STANDARD
TZOFFSETFROM:+0200
TZOFFSETTO:+0100
TZNAME:CET
DTSTART:20231029T010000
END:STANDARD
BEGIN:DAYLIGHT
TZOFFSETFROM:+0100
TZOFFSETTO:+0200
TZNAME:CEST
DTSTART:20240331T010000
END:DAYLIGHT
BEGIN:STANDARD
TZOFFSETFROM:+0200
TZOFFSETTO:+0100
TZNAME:CET
DTSTART:20241027T010000
END:STANDARD
END:VTIMEZONE
BEGIN:VEVENT
DTSTART;TZID=Europe/Berlin:20230727T193000
DTEND;TZID=Europe/Berlin:20230727T213000
DTSTAMP:20260421T163847
CREATED:20230726T111819Z
LAST-MODIFIED:20230726T111950Z
UID:4360-1690486200-1690493400@fdp-toel-wor.de
SUMMARY:Kreishauptversammlung
DESCRIPTION:Kreishauptversammlung mit Wahl der Delegierten zum Europaparteitag
URL:https://fdp-toel-wor.de/event/kreishauptversammlung-2/
LOCATION:Gasthaus zum Bayerischen Löwen\, Kocheler Str. 16\, Bichl\, Bayern\, 83673\, Deutschland
END:VEVENT
END:VCALENDAR