BEGIN:VCALENDAR
VERSION:2.0
PRODID:-//FDP Bad Tölz - Wolfratshausen - ECPv6.15.11//NONSGML v1.0//EN
CALSCALE:GREGORIAN
METHOD:PUBLISH
X-WR-CALNAME:FDP Bad Tölz - Wolfratshausen
X-ORIGINAL-URL:https://fdp-toel-wor.de
X-WR-CALDESC:Veranstaltungen für FDP Bad Tölz - Wolfratshausen
REFRESH-INTERVAL;VALUE=DURATION:PT1H
X-Robots-Tag:noindex
X-PUBLISHED-TTL:PT1H
BEGIN:VTIMEZONE
TZID:Europe/Berlin
BEGIN:DAYLIGHT
TZOFFSETFROM:+0100
TZOFFSETTO:+0200
TZNAME:CEST
DTSTART:20220327T010000
END:DAYLIGHT
BEGIN:STANDARD
TZOFFSETFROM:+0200
TZOFFSETTO:+0100
TZNAME:CET
DTSTART:20221030T010000
END:STANDARD
BEGIN:DAYLIGHT
TZOFFSETFROM:+0100
TZOFFSETTO:+0200
TZNAME:CEST
DTSTART:20230326T010000
END:DAYLIGHT
BEGIN:STANDARD
TZOFFSETFROM:+0200
TZOFFSETTO:+0100
TZNAME:CET
DTSTART:20231029T010000
END:STANDARD
BEGIN:DAYLIGHT
TZOFFSETFROM:+0100
TZOFFSETTO:+0200
TZNAME:CEST
DTSTART:20240331T010000
END:DAYLIGHT
BEGIN:STANDARD
TZOFFSETFROM:+0200
TZOFFSETTO:+0100
TZNAME:CET
DTSTART:20241027T010000
END:STANDARD
END:VTIMEZONE
BEGIN:VEVENT
DTSTART;TZID=Europe/Berlin:20230520T090000
DTEND;TZID=Europe/Berlin:20230520T120000
DTSTAMP:20260421T195109
CREATED:20230502T154230Z
LAST-MODIFIED:20230502T154230Z
UID:4316-1684573200-1684584000@fdp-toel-wor.de
SUMMARY:Infostand Geretsried
DESCRIPTION:Unser Landtagskandidat Tim Sachs lädt sie zum Infostand in Geretsried herzlich ein!
URL:https://fdp-toel-wor.de/event/infostand-geretsried/
LOCATION:Karl-Lederer-Platz Geretsried\, Karl-Lederer-Platz\, Geretsried\, Deutschland
END:VEVENT
END:VCALENDAR