BEGIN:VCALENDAR
VERSION:2.0
PRODID:-//FDP Bad Tölz - Wolfratshausen - ECPv6.15.11//NONSGML v1.0//EN
CALSCALE:GREGORIAN
METHOD:PUBLISH
X-WR-CALNAME:FDP Bad Tölz - Wolfratshausen
X-ORIGINAL-URL:https://fdp-toel-wor.de
X-WR-CALDESC:Veranstaltungen für FDP Bad Tölz - Wolfratshausen
REFRESH-INTERVAL;VALUE=DURATION:PT1H
X-Robots-Tag:noindex
X-PUBLISHED-TTL:PT1H
BEGIN:VTIMEZONE
TZID:Europe/Berlin
BEGIN:DAYLIGHT
TZOFFSETFROM:+0100
TZOFFSETTO:+0200
TZNAME:CEST
DTSTART:20190331T010000
END:DAYLIGHT
BEGIN:STANDARD
TZOFFSETFROM:+0200
TZOFFSETTO:+0100
TZNAME:CET
DTSTART:20191027T010000
END:STANDARD
BEGIN:DAYLIGHT
TZOFFSETFROM:+0100
TZOFFSETTO:+0200
TZNAME:CEST
DTSTART:20200329T010000
END:DAYLIGHT
BEGIN:STANDARD
TZOFFSETFROM:+0200
TZOFFSETTO:+0100
TZNAME:CET
DTSTART:20201025T010000
END:STANDARD
BEGIN:DAYLIGHT
TZOFFSETFROM:+0100
TZOFFSETTO:+0200
TZNAME:CEST
DTSTART:20210328T010000
END:DAYLIGHT
BEGIN:STANDARD
TZOFFSETFROM:+0200
TZOFFSETTO:+0100
TZNAME:CET
DTSTART:20211031T010000
END:STANDARD
END:VTIMEZONE
BEGIN:VEVENT
DTSTART;TZID=Europe/Berlin:20201015T193000
DTEND;TZID=Europe/Berlin:20201015T220000
DTSTAMP:20260421T150426
CREATED:20201010T142206Z
LAST-MODIFIED:20201011T145022Z
UID:3044-1602790200-1602799200@fdp-toel-wor.de
SUMMARY:FDP-TÖL-WOR Kreishauptversammlung mit Neuwahlen am 15.10.2020
DESCRIPTION:Sehr geehrte Damen und Herren\, \nhiermit laden wir Sie ganz herzlich ein zur FDP-Kreishauptversammlung mit Neuwahl des FDP-Kreisvorstandes \nam Donnerstag\, den 15.10.2020\, Beginn 19:30 Uhr\, \nim Wirtshaus Flößerei\, Sebastiani-Steg 1\, 82515 Wolfratshausen \nDie vor Ort und am Veranstaltungs-Termin gesetzlich vorgeschrieben Hygiene-Maßnahmen sind einzuhalten. \nTagesordnung:\n\nBegrüßung\nFeststellung der ordnungsgemäßen und fristgerechten Einladung und Genehmigung der Tagesordnung\nBildung eines Wahlausschusses\nRechenschaftsberichte (Vorstand/Schatzmeister/Kassenprüfer)\nKurzer Bericht aus den kommunalen Gremien (Edmund Häner und Patrick Lechner)\nKurzer Vortrag zum Thema „Barrierefreiheit“ (Günther Fuhrmann)\nAussprache zu den Berichten und dem Vortrag\nBeschlussfassung über die Entlastung des Kreisvorstandes\nFeststellung der Stimmberechtigung\nBeschlussfassung über die Zusammensetzung des Kreisvorstandes (Anzahl der Stellvertreter und der Beisitzer)\n\n\nNeuwahl des Kreisvorstandes (Kandidatenvorstellung falls erwünscht)\n\na) Wahl der/des Kreisvorsitzenden \nb) Wahl der stellvertretenden Vorsitzenden \nc) Wahl der/des Schatzmeisterin/s \nd) Wahl der/des Schriftführerin/s \ne) Wahl der Beisitzer/innen \nf) Wahl von 2 Kassenprüfer/innen und ihre Vertreter/innen \n\nVerschiedenes\nSchlusswort der/des neuen Kreisvorsitzenden
URL:https://fdp-toel-wor.de/event/fdp-kreishauptversammlung-mit-neuwahlen-am-15-10-2020/
LOCATION:Wirtshaus Flößerei\, Sebastiani Steg 1\, 82515 Wolfratshausen\, Sebastiani Steg 1\, Wolfratshausen\, 82515\, Deutschland
CATEGORIES:Kreisverband,Wahlen
ATTACH;FMTTYPE=image/png:https://fdp-toel-wor.de/wp-content/uploads/2020/01/OV-Brief-Logo.png
END:VEVENT
END:VCALENDAR