BEGIN:VCALENDAR
VERSION:2.0
PRODID:-//FDP Bad Tölz - Wolfratshausen - ECPv6.15.11//NONSGML v1.0//EN
CALSCALE:GREGORIAN
METHOD:PUBLISH
X-ORIGINAL-URL:https://fdp-toel-wor.de
X-WR-CALDESC:Veranstaltungen für FDP Bad Tölz - Wolfratshausen
REFRESH-INTERVAL;VALUE=DURATION:PT1H
X-Robots-Tag:noindex
X-PUBLISHED-TTL:PT1H
BEGIN:VTIMEZONE
TZID:Europe/Berlin
BEGIN:DAYLIGHT
TZOFFSETFROM:+0100
TZOFFSETTO:+0200
TZNAME:CEST
DTSTART:20190331T010000
END:DAYLIGHT
BEGIN:STANDARD
TZOFFSETFROM:+0200
TZOFFSETTO:+0100
TZNAME:CET
DTSTART:20191027T010000
END:STANDARD
BEGIN:DAYLIGHT
TZOFFSETFROM:+0100
TZOFFSETTO:+0200
TZNAME:CEST
DTSTART:20200329T010000
END:DAYLIGHT
BEGIN:STANDARD
TZOFFSETFROM:+0200
TZOFFSETTO:+0100
TZNAME:CET
DTSTART:20201025T010000
END:STANDARD
BEGIN:DAYLIGHT
TZOFFSETFROM:+0100
TZOFFSETTO:+0200
TZNAME:CEST
DTSTART:20210328T010000
END:DAYLIGHT
BEGIN:STANDARD
TZOFFSETFROM:+0200
TZOFFSETTO:+0100
TZNAME:CET
DTSTART:20211031T010000
END:STANDARD
END:VTIMEZONE
BEGIN:VEVENT
DTSTART;TZID=Europe/Berlin:20200624T193000
DTEND;TZID=Europe/Berlin:20200624T223000
DTSTAMP:20260425T133947
CREATED:20200623T125937Z
LAST-MODIFIED:20200623T130307Z
UID:2901-1593027000-1593037800@fdp-toel-wor.de
SUMMARY:FDP Kandidaten-Hearing zur Bundestagswahl im Wahlkreis
DESCRIPTION:
URL:https://fdp-toel-wor.de/event/fdp-kandidaten-hearing-zur-bundestagswahl-im-wahlkreis/
CATEGORIES:Kreisverband
END:VEVENT
END:VCALENDAR